BEGIN:VCALENDAR
VERSION:2.0
PRODID:-//Kangasalan nuorisoseura - ECPv5.8.1//NONSGML v1.0//EN
CALSCALE:GREGORIAN
METHOD:PUBLISH
X-WR-CALNAME:Kangasalan nuorisoseura
X-ORIGINAL-URL:https://www.kangasalannuorisoseura.fi
X-WR-CALDESC:Events for Kangasalan nuorisoseura
BEGIN:VTIMEZONE
TZID:Europe/Helsinki
BEGIN:DAYLIGHT
TZOFFSETFROM:+0200
TZOFFSETTO:+0300
TZNAME:EEST
DTSTART:20210328T010000
END:DAYLIGHT
BEGIN:STANDARD
TZOFFSETFROM:+0300
TZOFFSETTO:+0200
TZNAME:EET
DTSTART:20211031T010000
END:STANDARD
END:VTIMEZONE
BEGIN:VEVENT
DTSTART;TZID=Europe/Helsinki:20210428T140000
DTEND;TZID=Europe/Helsinki:20210428T160000
DTSTAMP:20260421T014957
CREATED:20201202T110815Z
LAST-MODIFIED:20201202T110815Z
UID:4608-1619618400-1619625600@www.kangasalannuorisoseura.fi
SUMMARY:Englannin kerho
DESCRIPTION:
URL:https://www.kangasalannuorisoseura.fi/event/englannin-kerho-15/
LOCATION:Pirtti\, Tapulintie 6
END:VEVENT
BEGIN:VEVENT
DTSTART;TZID=Europe/Helsinki:20210428T160000
DTEND;TZID=Europe/Helsinki:20210428T180000
DTSTAMP:20260421T014957
CREATED:20210513T160847Z
LAST-MODIFIED:20210513T160847Z
UID:4834-1619625600-1619632800@www.kangasalannuorisoseura.fi
SUMMARY:NS Kevätkokous
DESCRIPTION:
URL:https://www.kangasalannuorisoseura.fi/event/ns-kevatkokous-2/
LOCATION:Pirtti\, Tapulintie 6
END:VEVENT
BEGIN:VEVENT
DTSTART;TZID=Europe/Helsinki:20210428T180000
DTEND;TZID=Europe/Helsinki:20210428T200000
DTSTAMP:20260421T014957
CREATED:20201202T122221Z
LAST-MODIFIED:20201202T122221Z
UID:4691-1619632800-1619640000@www.kangasalannuorisoseura.fi
SUMMARY:Lauluklubi Gents
DESCRIPTION:
URL:https://www.kangasalannuorisoseura.fi/event/lauluklubi-gents-61/
LOCATION:Pirtti\, Tapulintie 6
END:VEVENT
END:VCALENDAR