BEGIN:VCALENDAR
VERSION:2.0
PRODID:-//Kangasalan nuorisoseura - ECPv5.8.1//NONSGML v1.0//EN
CALSCALE:GREGORIAN
METHOD:PUBLISH
X-WR-CALNAME:Kangasalan nuorisoseura
X-ORIGINAL-URL:https://www.kangasalannuorisoseura.fi
X-WR-CALDESC:Events for Kangasalan nuorisoseura
BEGIN:VTIMEZONE
TZID:Europe/Helsinki
BEGIN:DAYLIGHT
TZOFFSETFROM:+0200
TZOFFSETTO:+0300
TZNAME:EEST
DTSTART:20190331T010000
END:DAYLIGHT
BEGIN:STANDARD
TZOFFSETFROM:+0300
TZOFFSETTO:+0200
TZNAME:EET
DTSTART:20191027T010000
END:STANDARD
END:VTIMEZONE
BEGIN:VEVENT
DTSTART;TZID=Europe/Helsinki:20191004T183000
DTEND;TZID=Europe/Helsinki:20191004T183000
DTSTAMP:20260423T202431
CREATED:20190828T091808Z
LAST-MODIFIED:20190828T091808Z
UID:3302-1570213800-1570213800@www.kangasalannuorisoseura.fi
SUMMARY:Iltamat  koko perheen tapahtuma
DESCRIPTION:
URL:https://www.kangasalannuorisoseura.fi/event/iltamat-koko-perheen-tapahtuma/
END:VEVENT
END:VCALENDAR