BEGIN:VCALENDAR
VERSION:2.0
PRODID:-//Kangasalan nuorisoseura - ECPv5.8.1//NONSGML v1.0//EN
CALSCALE:GREGORIAN
METHOD:PUBLISH
X-WR-CALNAME:Kangasalan nuorisoseura
X-ORIGINAL-URL:https://www.kangasalannuorisoseura.fi
X-WR-CALDESC:Events for Kangasalan nuorisoseura
BEGIN:VTIMEZONE
TZID:Europe/Helsinki
BEGIN:DAYLIGHT
TZOFFSETFROM:+0200
TZOFFSETTO:+0300
TZNAME:EEST
DTSTART:20190331T010000
END:DAYLIGHT
BEGIN:STANDARD
TZOFFSETFROM:+0300
TZOFFSETTO:+0200
TZNAME:EET
DTSTART:20191027T010000
END:STANDARD
END:VTIMEZONE
BEGIN:VEVENT
DTSTART;TZID=Europe/Helsinki:20190924T090000
DTEND;TZID=Europe/Helsinki:20190924T120000
DTSTAMP:20260421T210854
CREATED:20190617T181301Z
LAST-MODIFIED:20190617T181650Z
UID:3044-1569315600-1569326400@www.kangasalannuorisoseura.fi
SUMMARY:Four Gents
DESCRIPTION:
URL:https://www.kangasalannuorisoseura.fi/event/four-gents-44/
LOCATION:Pirtti\, Tapulintie 6
END:VEVENT
BEGIN:VEVENT
DTSTART;TZID=Europe/Helsinki:20190924T160000
DTEND;TZID=Europe/Helsinki:20190924T220000
DTSTAMP:20260421T210854
CREATED:20190617T182507Z
LAST-MODIFIED:20190617T182507Z
UID:3052-1569340800-1569362400@www.kangasalannuorisoseura.fi
SUMMARY:Tanssikoulu Törmänen
DESCRIPTION:
URL:https://www.kangasalannuorisoseura.fi/event/tanssikoulu-tormanen-25/
LOCATION:Pirtti\, Tapulintie 6
END:VEVENT
BEGIN:VEVENT
DTSTART;TZID=Europe/Helsinki:20190924T160000
DTEND;TZID=Europe/Helsinki:20190924T173000
DTSTAMP:20260421T210854
CREATED:20190922T173321Z
LAST-MODIFIED:20190922T173321Z
UID:3351-1569340800-1569346200@www.kangasalannuorisoseura.fi
SUMMARY:NS johtokunta kokous
DESCRIPTION:
URL:https://www.kangasalannuorisoseura.fi/event/ns-johtokunta-kokous/
LOCATION:Pirtti\, Tapulintie 6
END:VEVENT
END:VCALENDAR