BEGIN:VCALENDAR
VERSION:2.0
PRODID:-//Kangasalan nuorisoseura - ECPv5.8.1//NONSGML v1.0//EN
CALSCALE:GREGORIAN
METHOD:PUBLISH
X-WR-CALNAME:Kangasalan nuorisoseura
X-ORIGINAL-URL:https://www.kangasalannuorisoseura.fi
X-WR-CALDESC:Events for Kangasalan nuorisoseura
BEGIN:VTIMEZONE
TZID:Europe/Helsinki
BEGIN:DAYLIGHT
TZOFFSETFROM:+0200
TZOFFSETTO:+0300
TZNAME:EEST
DTSTART:20190331T010000
END:DAYLIGHT
BEGIN:STANDARD
TZOFFSETFROM:+0300
TZOFFSETTO:+0200
TZNAME:EET
DTSTART:20191027T010000
END:STANDARD
END:VTIMEZONE
BEGIN:VEVENT
DTSTART;TZID=Europe/Helsinki:20190921T100000
DTEND;TZID=Europe/Helsinki:20190922T170000
DTSTAMP:20260421T222459
CREATED:20190707T183506Z
LAST-MODIFIED:20190707T183506Z
UID:3060-1569060000-1569171600@www.kangasalannuorisoseura.fi
SUMMARY:Unigue Pop Up
DESCRIPTION:
URL:https://www.kangasalannuorisoseura.fi/event/unigue-pop-up/
LOCATION:Pirtti\, Tapulintie 6
END:VEVENT
END:VCALENDAR