BEGIN:VCALENDAR
VERSION:2.0
PRODID:-//Kangasalan nuorisoseura - ECPv5.8.1//NONSGML v1.0//EN
CALSCALE:GREGORIAN
METHOD:PUBLISH
X-WR-CALNAME:Kangasalan nuorisoseura
X-ORIGINAL-URL:https://www.kangasalannuorisoseura.fi
X-WR-CALDESC:Events for Kangasalan nuorisoseura
BEGIN:VTIMEZONE
TZID:Europe/Helsinki
BEGIN:DAYLIGHT
TZOFFSETFROM:+0200
TZOFFSETTO:+0300
TZNAME:EEST
DTSTART:20200329T010000
END:DAYLIGHT
BEGIN:STANDARD
TZOFFSETFROM:+0300
TZOFFSETTO:+0200
TZNAME:EET
DTSTART:20201025T010000
END:STANDARD
END:VTIMEZONE
BEGIN:VEVENT
DTSTART;TZID=Europe/Helsinki:20200118T080000
DTEND;TZID=Europe/Helsinki:20200118T233000
DTSTAMP:20260424T085641
CREATED:20190828T093456Z
LAST-MODIFIED:20190828T093456Z
UID:3326-1579334400-1579390200@www.kangasalannuorisoseura.fi
SUMMARY:Varattu
DESCRIPTION:
URL:https://www.kangasalannuorisoseura.fi/event/varattu-159/
LOCATION:Pirtti\, Tapulintie 6
END:VEVENT
END:VCALENDAR