BEGIN:VCALENDAR
VERSION:2.0
PRODID:-//Kangasalan nuorisoseura - ECPv5.8.1//NONSGML v1.0//EN
CALSCALE:GREGORIAN
METHOD:PUBLISH
X-WR-CALNAME:Kangasalan nuorisoseura
X-ORIGINAL-URL:https://www.kangasalannuorisoseura.fi
X-WR-CALDESC:Events for Kangasalan nuorisoseura
BEGIN:VTIMEZONE
TZID:Europe/Helsinki
BEGIN:DAYLIGHT
TZOFFSETFROM:+0200
TZOFFSETTO:+0300
TZNAME:EEST
DTSTART:20240331T010000
END:DAYLIGHT
BEGIN:STANDARD
TZOFFSETFROM:+0300
TZOFFSETTO:+0200
TZNAME:EET
DTSTART:20241027T010000
END:STANDARD
END:VTIMEZONE
BEGIN:VEVENT
DTSTART;TZID=Europe/Helsinki:20240402T140000
DTEND;TZID=Europe/Helsinki:20240402T151500
DTSTAMP:20260425T030134
CREATED:20240206T125622Z
LAST-MODIFIED:20240206T125622Z
UID:8039-1712066400-1712070900@www.kangasalannuorisoseura.fi
SUMMARY:Tempoa tenaviin
DESCRIPTION:
URL:https://www.kangasalannuorisoseura.fi/event/tempoa-tenaviin-11/
LOCATION:Pirtti\, Tapulintie 6
END:VEVENT
END:VCALENDAR