BEGIN:VCALENDAR
VERSION:2.0
PRODID:-//Kangasalan nuorisoseura - ECPv5.8.1//NONSGML v1.0//EN
CALSCALE:GREGORIAN
METHOD:PUBLISH
X-WR-CALNAME:Kangasalan nuorisoseura
X-ORIGINAL-URL:https://www.kangasalannuorisoseura.fi
X-WR-CALDESC:Events for Kangasalan nuorisoseura
BEGIN:VTIMEZONE
TZID:Europe/Helsinki
BEGIN:DAYLIGHT
TZOFFSETFROM:+0200
TZOFFSETTO:+0300
TZNAME:EEST
DTSTART:20190331T010000
END:DAYLIGHT
BEGIN:STANDARD
TZOFFSETFROM:+0300
TZOFFSETTO:+0200
TZNAME:EET
DTSTART:20191027T010000
END:STANDARD
END:VTIMEZONE
BEGIN:VEVENT
DTSTART;TZID=Europe/Helsinki:20190923T120000
DTEND;TZID=Europe/Helsinki:20190923T154500
DTSTAMP:20260421T222840
CREATED:20190707T205505Z
LAST-MODIFIED:20190707T205505Z
UID:3239-1569240000-1569253500@www.kangasalannuorisoseura.fi
SUMMARY:Tanssit Eläkkeensaajat ry
DESCRIPTION:
URL:https://www.kangasalannuorisoseura.fi/event/tanssit-elakkeensaajat-ry-2/
LOCATION:Pirtti\, Tapulintie 6
END:VEVENT
END:VCALENDAR