BEGIN:VCALENDAR
VERSION:2.0
PRODID:-//Kangasalan nuorisoseura - ECPv5.8.1//NONSGML v1.0//EN
CALSCALE:GREGORIAN
METHOD:PUBLISH
X-WR-CALNAME:Kangasalan nuorisoseura
X-ORIGINAL-URL:https://www.kangasalannuorisoseura.fi
X-WR-CALDESC:Events for Kangasalan nuorisoseura
BEGIN:VTIMEZONE
TZID:Europe/Helsinki
BEGIN:DAYLIGHT
TZOFFSETFROM:+0200
TZOFFSETTO:+0300
TZNAME:EEST
DTSTART:20200329T010000
END:DAYLIGHT
BEGIN:STANDARD
TZOFFSETFROM:+0300
TZOFFSETTO:+0200
TZNAME:EET
DTSTART:20201025T010000
END:STANDARD
END:VTIMEZONE
BEGIN:VEVENT
DTSTART;TZID=Europe/Helsinki:20201013T173000
DTEND;TZID=Europe/Helsinki:20201013T220000
DTSTAMP:20260424T032119
CREATED:20200709T083036Z
LAST-MODIFIED:20200709T083036Z
UID:4157-1602610200-1602626400@www.kangasalannuorisoseura.fi
SUMMARY:Tanssikoulu Törmänen
DESCRIPTION:
URL:https://www.kangasalannuorisoseura.fi/event/tanssikoulu-tormanen-61/
LOCATION:Pirtti\, Tapulintie 6
END:VEVENT
END:VCALENDAR