BEGIN:VCALENDAR
VERSION:2.0
PRODID:-//Kangasalan nuorisoseura - ECPv5.8.1//NONSGML v1.0//EN
CALSCALE:GREGORIAN
METHOD:PUBLISH
X-WR-CALNAME:Kangasalan nuorisoseura
X-ORIGINAL-URL:https://www.kangasalannuorisoseura.fi
X-WR-CALDESC:Events for Kangasalan nuorisoseura
BEGIN:VTIMEZONE
TZID:Europe/Helsinki
BEGIN:DAYLIGHT
TZOFFSETFROM:+0200
TZOFFSETTO:+0300
TZNAME:EEST
DTSTART:20220327T010000
END:DAYLIGHT
BEGIN:STANDARD
TZOFFSETFROM:+0300
TZOFFSETTO:+0200
TZNAME:EET
DTSTART:20221030T010000
END:STANDARD
END:VTIMEZONE
BEGIN:VEVENT
DTSTART;TZID=Europe/Helsinki:20220117T120000
DTEND;TZID=Europe/Helsinki:20220117T154500
DTSTAMP:20260417T045235
CREATED:20211120T163835Z
LAST-MODIFIED:20220111T092733Z
UID:5440-1642420800-1642434300@www.kangasalannuorisoseura.fi
SUMMARY:Päivätanssit Peruttu
DESCRIPTION:
URL:https://www.kangasalannuorisoseura.fi/event/paivatanssit-44/
LOCATION:Pirtti\, Tapulintie 6
END:VEVENT
END:VCALENDAR