BEGIN:VCALENDAR
VERSION:2.0
PRODID:-//Kangasalan nuorisoseura - ECPv5.8.1//NONSGML v1.0//EN
CALSCALE:GREGORIAN
METHOD:PUBLISH
X-WR-CALNAME:Kangasalan nuorisoseura
X-ORIGINAL-URL:https://www.kangasalannuorisoseura.fi
X-WR-CALDESC:Events for Kangasalan nuorisoseura
BEGIN:VTIMEZONE
TZID:Europe/Helsinki
BEGIN:DAYLIGHT
TZOFFSETFROM:+0200
TZOFFSETTO:+0300
TZNAME:EEST
DTSTART:20220327T010000
END:DAYLIGHT
BEGIN:STANDARD
TZOFFSETFROM:+0300
TZOFFSETTO:+0200
TZNAME:EET
DTSTART:20221030T010000
END:STANDARD
END:VTIMEZONE
BEGIN:VEVENT
DTSTART;TZID=Europe/Helsinki:20220713T180000
DTEND;TZID=Europe/Helsinki:20220713T200000
DTSTAMP:20260422T214904
CREATED:20220712T104701Z
LAST-MODIFIED:20220712T104701Z
UID:6270-1657735200-1657742400@www.kangasalannuorisoseura.fi
SUMMARY:Lauluklubi Gents
DESCRIPTION:
URL:https://www.kangasalannuorisoseura.fi/event/lauluklubi-gents-90/
LOCATION:Pirtti\, Tapulintie 6
END:VEVENT
END:VCALENDAR