BEGIN:VCALENDAR
VERSION:2.0
PRODID:-//Kangasalan nuorisoseura - ECPv5.8.1//NONSGML v1.0//EN
CALSCALE:GREGORIAN
METHOD:PUBLISH
X-WR-CALNAME:Kangasalan nuorisoseura
X-ORIGINAL-URL:https://www.kangasalannuorisoseura.fi
X-WR-CALDESC:Events for Kangasalan nuorisoseura
BEGIN:VTIMEZONE
TZID:Europe/Helsinki
BEGIN:DAYLIGHT
TZOFFSETFROM:+0200
TZOFFSETTO:+0300
TZNAME:EEST
DTSTART:20200329T010000
END:DAYLIGHT
BEGIN:STANDARD
TZOFFSETFROM:+0300
TZOFFSETTO:+0200
TZNAME:EET
DTSTART:20201025T010000
END:STANDARD
END:VTIMEZONE
BEGIN:VEVENT
DTSTART;TZID=Europe/Helsinki:20201020T090000
DTEND;TZID=Europe/Helsinki:20201020T120000
DTSTAMP:20260420T101736
CREATED:20200709T071027Z
LAST-MODIFIED:20200709T071027Z
UID:4099-1603184400-1603195200@www.kangasalannuorisoseura.fi
SUMMARY:Four Gents
DESCRIPTION:
URL:https://www.kangasalannuorisoseura.fi/event/four-gents-88/
LOCATION:Pirtti\, Tapulintie 6
END:VEVENT
END:VCALENDAR