BEGIN:VCALENDAR
VERSION:2.0
PRODID:-//Kangasalan nuorisoseura - ECPv5.8.1//NONSGML v1.0//EN
CALSCALE:GREGORIAN
METHOD:PUBLISH
X-WR-CALNAME:Kangasalan nuorisoseura
X-ORIGINAL-URL:http://www.kangasalannuorisoseura.fi
X-WR-CALDESC:Events for Kangasalan nuorisoseura
BEGIN:VTIMEZONE
TZID:Europe/Helsinki
BEGIN:DAYLIGHT
TZOFFSETFROM:+0200
TZOFFSETTO:+0300
TZNAME:EEST
DTSTART:20250330T010000
END:DAYLIGHT
BEGIN:STANDARD
TZOFFSETFROM:+0300
TZOFFSETTO:+0200
TZNAME:EET
DTSTART:20251026T010000
END:STANDARD
END:VTIMEZONE
BEGIN:VEVENT
DTSTART;TZID=Europe/Helsinki:20250602T080000
DTEND;TZID=Europe/Helsinki:20250604T170000
DTSTAMP:20260419T210308
CREATED:20250112T101737Z
LAST-MODIFIED:20250112T101737Z
UID:8442-1748851200-1749056400@www.kangasalannuorisoseura.fi
SUMMARY:Vaatemyynti
DESCRIPTION:
URL:http://www.kangasalannuorisoseura.fi/event/vaatemyynti-3/
LOCATION:Pirtti\, Tapulintie 6
END:VEVENT
BEGIN:VEVENT
DTSTART;TZID=Europe/Helsinki:20250602T080000
DTEND;TZID=Europe/Helsinki:20250604T170000
DTSTAMP:20260419T210308
CREATED:20250328T142407Z
LAST-MODIFIED:20250328T142407Z
UID:8713-1748851200-1749056400@www.kangasalannuorisoseura.fi
SUMMARY:Vaatemyynti
DESCRIPTION:
URL:http://www.kangasalannuorisoseura.fi/event/vaatemyynti-4/
LOCATION:Pirtti\, Tapulintie 6
END:VEVENT
BEGIN:VEVENT
DTSTART;TZID=Europe/Helsinki:20250604T180000
DTEND;TZID=Europe/Helsinki:20250604T210000
DTSTAMP:20260419T210308
CREATED:20250513T160238Z
LAST-MODIFIED:20250513T160238Z
UID:8753-1749060000-1749070800@www.kangasalannuorisoseura.fi
SUMMARY:Lauluklubi Gents
DESCRIPTION:
URL:http://www.kangasalannuorisoseura.fi/event/lauluklubi-gents-186/
LOCATION:Pirtti\, Tapulintie 6
END:VEVENT
BEGIN:VEVENT
DTSTART;TZID=Europe/Helsinki:20250604T180000
DTEND;TZID=Europe/Helsinki:20250604T210000
DTSTAMP:20260419T210308
CREATED:20250513T160311Z
LAST-MODIFIED:20250513T160311Z
UID:8755-1749060000-1749070800@www.kangasalannuorisoseura.fi
SUMMARY:Shakkikerho
DESCRIPTION:
URL:http://www.kangasalannuorisoseura.fi/event/shakkikerho-101/
LOCATION:Pirtti\, Tapulintie 6
END:VEVENT
END:VCALENDAR