BEGIN:VCALENDAR
VERSION:2.0
PRODID:-//Kangasalan nuorisoseura - ECPv5.8.1//NONSGML v1.0//EN
CALSCALE:GREGORIAN
METHOD:PUBLISH
X-WR-CALNAME:Kangasalan nuorisoseura
X-ORIGINAL-URL:http://www.kangasalannuorisoseura.fi
X-WR-CALDESC:Events for Kangasalan nuorisoseura
BEGIN:VTIMEZONE
TZID:Europe/Helsinki
BEGIN:DAYLIGHT
TZOFFSETFROM:+0200
TZOFFSETTO:+0300
TZNAME:EEST
DTSTART:20190331T010000
END:DAYLIGHT
BEGIN:STANDARD
TZOFFSETFROM:+0300
TZOFFSETTO:+0200
TZNAME:EET
DTSTART:20191027T010000
END:STANDARD
END:VTIMEZONE
BEGIN:VEVENT
DTSTART;TZID=Europe/Helsinki:20190315T180000
DTEND;TZID=Europe/Helsinki:20190315T210000
DTSTAMP:20260422T025142
CREATED:20190303T125357Z
LAST-MODIFIED:20190303T125357Z
UID:2870-1552672800-1552683600@www.kangasalannuorisoseura.fi
SUMMARY:Karaoke
DESCRIPTION:
URL:http://www.kangasalannuorisoseura.fi/event/karaoke-4/
LOCATION:Pirtti\, Tapulintie 6
END:VEVENT
END:VCALENDAR