BEGIN:VCALENDAR
VERSION:2.0
PRODID:-//Kangasalan nuorisoseura - ECPv5.8.1//NONSGML v1.0//EN
CALSCALE:GREGORIAN
METHOD:PUBLISH
X-WR-CALNAME:Kangasalan nuorisoseura
X-ORIGINAL-URL:http://www.kangasalannuorisoseura.fi
X-WR-CALDESC:Events for Kangasalan nuorisoseura
BEGIN:VTIMEZONE
TZID:Europe/Helsinki
BEGIN:DAYLIGHT
TZOFFSETFROM:+0200
TZOFFSETTO:+0300
TZNAME:EEST
DTSTART:20190331T010000
END:DAYLIGHT
BEGIN:STANDARD
TZOFFSETFROM:+0300
TZOFFSETTO:+0200
TZNAME:EET
DTSTART:20191027T010000
END:STANDARD
END:VTIMEZONE
BEGIN:VEVENT
DTSTART;TZID=Europe/Helsinki:20190314T080000
DTEND;TZID=Europe/Helsinki:20190314T170000
DTSTAMP:20260422T043819
CREATED:20190110T161314Z
LAST-MODIFIED:20190110T161314Z
UID:2781-1552550400-1552582800@www.kangasalannuorisoseura.fi
SUMMARY:Virikekerho
DESCRIPTION:
URL:http://www.kangasalannuorisoseura.fi/event/virikekerho-9/
LOCATION:Pirtti\, Tapulintie 6
END:VEVENT
BEGIN:VEVENT
DTSTART;TZID=Europe/Helsinki:20190314T100000
DTEND;TZID=Europe/Helsinki:20190314T170000
DTSTAMP:20260422T043819
CREATED:20190303T125245Z
LAST-MODIFIED:20190303T125245Z
UID:2868-1552557600-1552582800@www.kangasalannuorisoseura.fi
SUMMARY:Kurikan Soffapojat
DESCRIPTION:
URL:http://www.kangasalannuorisoseura.fi/event/kurikan-soffapojat/
LOCATION:Pirtti\, Tapulintie 6
END:VEVENT
BEGIN:VEVENT
DTSTART;TZID=Europe/Helsinki:20190314T180000
DTEND;TZID=Europe/Helsinki:20190314T200000
DTSTAMP:20260422T043819
CREATED:20190103T172311Z
LAST-MODIFIED:20190103T172311Z
UID:2611-1552586400-1552593600@www.kangasalannuorisoseura.fi
SUMMARY:Näytelmäkerho
DESCRIPTION:
URL:http://www.kangasalannuorisoseura.fi/event/naytelmakerho-23/
LOCATION:Pirtti\, Tapulintie 6
END:VEVENT
END:VCALENDAR