BEGIN:VCALENDAR
VERSION:2.0
PRODID:-//Kangasalan nuorisoseura - ECPv5.8.1//NONSGML v1.0//EN
CALSCALE:GREGORIAN
METHOD:PUBLISH
X-WR-CALNAME:Kangasalan nuorisoseura
X-ORIGINAL-URL:http://www.kangasalannuorisoseura.fi
X-WR-CALDESC:Events for Kangasalan nuorisoseura
BEGIN:VTIMEZONE
TZID:Europe/Helsinki
BEGIN:DAYLIGHT
TZOFFSETFROM:+0200
TZOFFSETTO:+0300
TZNAME:EEST
DTSTART:20200329T010000
END:DAYLIGHT
BEGIN:STANDARD
TZOFFSETFROM:+0300
TZOFFSETTO:+0200
TZNAME:EET
DTSTART:20201025T010000
END:STANDARD
END:VTIMEZONE
BEGIN:VEVENT
DTSTART;TZID=Europe/Helsinki:20201115T180000
DTEND;TZID=Europe/Helsinki:20201115T190000
DTSTAMP:20260425T123453
CREATED:20200730T151137Z
LAST-MODIFIED:20201102T101230Z
UID:4245-1605463200-1605466800@www.kangasalannuorisoseura.fi
SUMMARY:Yhteislaulutilaisuus PERUTTU
DESCRIPTION:
URL:http://www.kangasalannuorisoseura.fi/event/yhteislaulutilaisuus-8/
LOCATION:Pirtti\, Tapulintie 6
END:VEVENT
END:VCALENDAR