BEGIN:VCALENDAR
VERSION:2.0
PRODID:-//Kangasalan nuorisoseura - ECPv5.8.1//NONSGML v1.0//EN
CALSCALE:GREGORIAN
METHOD:PUBLISH
X-WR-CALNAME:Kangasalan nuorisoseura
X-ORIGINAL-URL:http://www.kangasalannuorisoseura.fi
X-WR-CALDESC:Events for Kangasalan nuorisoseura
BEGIN:VTIMEZONE
TZID:Europe/Helsinki
BEGIN:DAYLIGHT
TZOFFSETFROM:+0200
TZOFFSETTO:+0300
TZNAME:EEST
DTSTART:20240331T010000
END:DAYLIGHT
BEGIN:STANDARD
TZOFFSETFROM:+0300
TZOFFSETTO:+0200
TZNAME:EET
DTSTART:20241027T010000
END:STANDARD
END:VTIMEZONE
BEGIN:VEVENT
DTSTART;TZID=Europe/Helsinki:20240611T160000
DTEND;TZID=Europe/Helsinki:20240611T210000
DTSTAMP:20260419T082939
CREATED:20240406T131750Z
LAST-MODIFIED:20240406T131751Z
UID:8102-1718121600-1718139600@www.kangasalannuorisoseura.fi
SUMMARY:Tanssikoulu Törmänen
DESCRIPTION:
URL:http://www.kangasalannuorisoseura.fi/event/tanssikoulu-tormanen-159/
LOCATION:Pirtti\, Tapulintie 6
END:VEVENT
END:VCALENDAR