BEGIN:VCALENDAR
VERSION:2.0
PRODID:-//Kangasalan nuorisoseura - ECPv5.8.1//NONSGML v1.0//EN
CALSCALE:GREGORIAN
METHOD:PUBLISH
X-WR-CALNAME:Kangasalan nuorisoseura
X-ORIGINAL-URL:http://www.kangasalannuorisoseura.fi
X-WR-CALDESC:Events for Kangasalan nuorisoseura
BEGIN:VTIMEZONE
TZID:Europe/Helsinki
BEGIN:DAYLIGHT
TZOFFSETFROM:+0200
TZOFFSETTO:+0300
TZNAME:EEST
DTSTART:20240331T010000
END:DAYLIGHT
BEGIN:STANDARD
TZOFFSETFROM:+0300
TZOFFSETTO:+0200
TZNAME:EET
DTSTART:20241027T010000
END:STANDARD
END:VTIMEZONE
BEGIN:VEVENT
DTSTART;TZID=Europe/Helsinki:20240311T120000
DTEND;TZID=Europe/Helsinki:20240311T154500
DTSTAMP:20260423T161650
CREATED:20231124T192818Z
LAST-MODIFIED:20231124T192818Z
UID:7607-1710158400-1710171900@www.kangasalannuorisoseura.fi
SUMMARY:Päivätanssit Eläkkeensaajat ry
DESCRIPTION:
URL:http://www.kangasalannuorisoseura.fi/event/paivatanssit-elakkeensaajat-ry-30/
LOCATION:Pirtti\, Tapulintie 6
END:VEVENT
END:VCALENDAR