BEGIN:VCALENDAR
VERSION:2.0
PRODID:-//Kangasalan nuorisoseura - ECPv5.8.1//NONSGML v1.0//EN
CALSCALE:GREGORIAN
METHOD:PUBLISH
X-WR-CALNAME:Kangasalan nuorisoseura
X-ORIGINAL-URL:http://www.kangasalannuorisoseura.fi
X-WR-CALDESC:Events for Kangasalan nuorisoseura
BEGIN:VTIMEZONE
TZID:Europe/Helsinki
BEGIN:DAYLIGHT
TZOFFSETFROM:+0200
TZOFFSETTO:+0300
TZNAME:EEST
DTSTART:20220327T010000
END:DAYLIGHT
BEGIN:STANDARD
TZOFFSETFROM:+0300
TZOFFSETTO:+0200
TZNAME:EET
DTSTART:20221030T010000
END:STANDARD
END:VTIMEZONE
BEGIN:VEVENT
DTSTART;TZID=Europe/Helsinki:20221019T180000
DTEND;TZID=Europe/Helsinki:20221019T200000
DTSTAMP:20260422T075048
CREATED:20220522T184204Z
LAST-MODIFIED:20220522T184204Z
UID:6146-1666202400-1666209600@www.kangasalannuorisoseura.fi
SUMMARY:Lauluryhmä Duurikset
DESCRIPTION:
URL:http://www.kangasalannuorisoseura.fi/event/lauluryhma-duurikset-89/
LOCATION:Pirtti\, Tapulintie 6
END:VEVENT
END:VCALENDAR