BEGIN:VCALENDAR
VERSION:2.0
PRODID:-//Kangasalan nuorisoseura - ECPv5.8.1//NONSGML v1.0//EN
CALSCALE:GREGORIAN
METHOD:PUBLISH
X-WR-CALNAME:Kangasalan nuorisoseura
X-ORIGINAL-URL:http://www.kangasalannuorisoseura.fi
X-WR-CALDESC:Events for Kangasalan nuorisoseura
BEGIN:VTIMEZONE
TZID:Europe/Helsinki
BEGIN:DAYLIGHT
TZOFFSETFROM:+0200
TZOFFSETTO:+0300
TZNAME:EEST
DTSTART:20220327T010000
END:DAYLIGHT
BEGIN:STANDARD
TZOFFSETFROM:+0300
TZOFFSETTO:+0200
TZNAME:EET
DTSTART:20221030T010000
END:STANDARD
END:VTIMEZONE
BEGIN:VEVENT
DTSTART;TZID=Europe/Helsinki:20220207T080000
DTEND;TZID=Europe/Helsinki:20220207T120000
DTSTAMP:20260423T013102
CREATED:20220206T192238Z
LAST-MODIFIED:20220206T192238Z
UID:5842-1644220800-1644235200@www.kangasalannuorisoseura.fi
SUMMARY:KAIKKI HARRASTEKERHOT ALKAVAT TOIMINNAN
DESCRIPTION:
URL:http://www.kangasalannuorisoseura.fi/event/kaikki-harrastekerhot-alkavat-toiminnan/
END:VEVENT
END:VCALENDAR